BEGIN:VCALENDAR
VERSION:2.0
PRODID:icalendar-ruby
CALSCALE:GREGORIAN
METHOD:PUBLISH
BEGIN:VEVENT
DTSTAMP:20260422T002015Z
UID:9-436682@saintmarysavl.org
DTSTART:20260608T113000Z
DTEND:20260608T123000Z
CLASS:PUBLIC
CREATED:20260421T185923
DESCRIPTION:
LAST-MODIFIED:20260421T185923
LOCATION:St. Mary's Episcopal Church
SUMMARY:Morning Prayer
URL;VALUE=URI:https://www.saintmarysavl.org/events/morning-prayer/2026-06-0
 8
END:VEVENT
END:VCALENDAR
