BEGIN:VCALENDAR
VERSION:2.0
PRODID:icalendar-ruby
CALSCALE:GREGORIAN
METHOD:PUBLISH
BEGIN:VEVENT
DTSTAMP:20260422T021449Z
UID:9-436932@saintmarysavl.org
DTSTART:20260615T113000Z
DTEND:20260615T123000Z
CLASS:PUBLIC
CREATED:20260421T213741
DESCRIPTION:
LAST-MODIFIED:20260421T213741
LOCATION:St. Mary's Episcopal Church
SUMMARY:Morning Prayer
URL;VALUE=URI:https://www.saintmarysavl.org/events/morning-prayer/2026-06-1
 5
END:VEVENT
END:VCALENDAR
