BEGIN:VCALENDAR
VERSION:2.0
PRODID:icalendar-ruby
CALSCALE:GREGORIAN
METHOD:PUBLISH
BEGIN:VEVENT
DTSTAMP:20260422T074125Z
UID:9-436935@saintmarysavl.org
DTSTART:20260706T113000Z
DTEND:20260706T123000Z
CLASS:PUBLIC
CREATED:20260421T213741
DESCRIPTION:
LAST-MODIFIED:20260421T213741
LOCATION:St. Mary's Episcopal Church
SUMMARY:Morning Prayer
URL;VALUE=URI:https://www.saintmarysavl.org/events/morning-prayer/2026-07-0
 6
END:VEVENT
END:VCALENDAR
