BEGIN:VCALENDAR
VERSION:2.0
PRODID:icalendar-ruby
CALSCALE:GREGORIAN
METHOD:PUBLISH
BEGIN:VEVENT
DTSTAMP:20260422T152210Z
UID:9-437188@saintmarysavl.org
DTSTART:20260803T113000Z
DTEND:20260803T123000Z
CLASS:PUBLIC
CREATED:20260422T084616
DESCRIPTION:
LAST-MODIFIED:20260422T084616
LOCATION:St. Mary's Episcopal Church
SUMMARY:Morning Prayer
URL;VALUE=URI:https://www.saintmarysavl.org/events/morning-prayer/2026-08-0
 3
END:VEVENT
END:VCALENDAR
