BEGIN:VCALENDAR
VERSION:2.0
PRODID:icalendar-ruby
CALSCALE:GREGORIAN
METHOD:PUBLISH
BEGIN:VEVENT
DTSTAMP:20260424T112534Z
UID:37-442818@saintmarysavl.org
DTSTART;VALUE=DATE:20260424
DTEND;VALUE=DATE:20260424
CLASS:PUBLIC
CREATED:20260423T231918
DESCRIPTION:
LAST-MODIFIED:20260423T231918
LOCATION:
SUMMARY:Office Closed
URL;VALUE=URI:https://www.saintmarysavl.org/events/office-closed/2026-04-24
END:VEVENT
END:VCALENDAR
