BEGIN:VCALENDAR
VERSION:2.0
PRODID:icalendar-ruby
CALSCALE:GREGORIAN
METHOD:PUBLISH
BEGIN:VEVENT
DTSTAMP:20260424T162141Z
UID:37-444046@saintmarysavl.org
DTSTART;VALUE=DATE:20260515
DTEND;VALUE=DATE:20260515
CLASS:PUBLIC
CREATED:20260424T114000
DESCRIPTION:
LAST-MODIFIED:20260424T114000
LOCATION:
SUMMARY:Office Closed
URL;VALUE=URI:https://www.saintmarysavl.org/events/office-closed/2026-05-15
END:VEVENT
END:VCALENDAR
