BEGIN:VCALENDAR
VERSION:2.0
PRODID:icalendar-ruby
CALSCALE:GREGORIAN
METHOD:PUBLISH
BEGIN:VEVENT
DTSTAMP:20260424T231059Z
UID:37-445276@saintmarysavl.org
DTSTART;VALUE=DATE:20260612
DTEND;VALUE=DATE:20260612
CLASS:PUBLIC
CREATED:20260424T171324
DESCRIPTION:
LAST-MODIFIED:20260424T171324
LOCATION:
SUMMARY:Office Closed
URL;VALUE=URI:https://www.saintmarysavl.org/events/office-closed/2026-06-12
END:VEVENT
END:VCALENDAR
